Workbook

Sheet 確認シート
A1: 宅地造成及び特定盛土等規制法の許可要否確認シート
Z3: Ver.1
A4: 事業者 | B4: 住 所
B5: 会 社 名
B6: 代 表 者
A8: ● 土地の所在 | F8: 彦根市
A9: ● 土地の面積 | K9: ㎡ | M9: ● 盛土のタイプ
A10: ● 都市計画区域の種別
A11: （市街化区域、市街化調整区域、非線引き都市計画区域、都市計画区域外）
A12: ● 盛土規制法の規制区域の種別
A13: （宅地造成等工事規制区域、特定盛土等規制区域）
A15: ● 土地の形質の変更（盛土および切土）確認内容 | S15: 記入欄（※1）
A16: ① | B16: 盛土により生ずる崖（※2）の最高高さ | Y16: ｍ
A17: ② | B17: 切土により生ずる崖（※2）の最高高さ | Y17: ｍ
A18: ③ | B18: 盛土と切土を同時に行うことで生じる崖（※2）の最高高さ | Y18: ｍ
A19: ④ | B19: 盛土で生じる周辺地盤面との（最大）高低差 | Y19: ｍ
A20: ⑤ | B20: 盛土または切土をする土地の面積（30cm超の面積）（※3） | Y20: ㎡
A21: ⑥ | B21: 特定工程（※4）の有無
A22: ⑦ | B22: 3ヶ月以上の工事の有無
A24: ※1 ①～⑤の項目において、該当が無い場合は、「０.00」を記入してください。
A25: ※2 地表面が水平面に対し30度を超える角度をなす土地で、硬岩盤（風化の著しいものを除く。）以外のもの
A26: ※3 盛土または切土全体で、「盛土または切土をする前後の地盤面の標高の差」が30cmを超える部分の面積
A27: ※4 盛土をする前の地盤面または切土をした後の地盤面に排水施設を設置する工事
A29: ● 土地の形質の変更（盛土・切土）のイメージ図
A36: ● 特定工程（※4）について | K36: ● 連絡先
K37: 記入者 | L37: 記入日 | O37: 令和 | T37: 年 | W37: 月 | Z37: 日
L38: 住 所
L39: 氏 名
L40: 連絡先
A41: 【判定結果】
A42: =判定シート!L7 -> 盛土規制法 みなし許可 の対象外です。

Sheet 判定シート
B1: 盛土 （崖高さ） | C1: 切土 （崖高さ） | D1: 盛土&切土 （崖高さ） | E1: 盛土 （高さ） | F1: 盛土or切土 （面積） | G1: 特定工程 | H1: 工期 | J1: 判定
A2: みなし許可 | B2: =IF(確認シート!$S$16>1,"○","") | C2: =IF(確認シート!$S$17>2,"○","") | D2: =IF(確認シート!$S$18>2,"○","") | E2: =IF(確認シート!$S$19>2,"○","") | F2: =IF(確認シート!$S$20>500,"○","") | I2: → | J2: =IF(COUNTIF(B2:F2,"○"),"○","") | K2: → | L2: 盛土規制法 みなし許可 の対象です。
A3: 中間検査 | B3: =IF(確認シート!$S$16>2,"○","") | C3: =IF(確認シート!$S$17>5,"○","") | D3: =IF(確認シート!$S$18>5,"○","") | E3: =IF(確認シート!$S$19>5,"○","") | F3: =IF(確認シート!$S$20>3000,"○","") | G3: =IF(確認シート!$S$21="有","○","") | I3: → | J3: =IF(COUNTIF(B3:F3,"○"),IF(G3="○","○",""),"") | K3: → | L3: 盛土規制法 みなし許可 と 中間検査 の対象です。 | M3: → | N3: 盛土規制法 みなし許可 と 中間検査 と 定期報告 の対象です。
A4: 定期報告 | B4: =IF(確認シート!$S$16>2,"○","") | C4: =IF(確認シート!$S$17>5,"○","") | D4: =IF(確認シート!$S$18>5,"○","") | E4: =IF(確認シート!$S$19>5,"○","") | F4: =IF(確認シート!$S$20>3000,"○","") | H4: =IF(確認シート!$S$22="有","○","") | I4: → | J4: =IF(COUNTIF(B4:F4,"○"),IF(H4="○","○",""),"") | K4: → | L4: 盛土規制法 みなし許可 と 定期報告 の対象です。
L5: 盛土規制法 みなし許可 の対象外です。
J7: 結果 | K7: → | L7: =IF(J4="○",IF(J3="○",N3,L4),IF(J3="○",L3,IF(J2="○",L2,L5))) -> 盛土規制法 みなし許可 の対象外です。
